BEGIN:VCALENDAR
PRODID:-//eluceo/ical//2.0/EN
VERSION:2.0
CALSCALE:GREGORIAN
BEGIN:VEVENT
UID:bf121d7a5d4776c78bc5acfe16e224e6
DTSTAMP:20260422T084600Z
SUMMARY:Besuch RC Grenchen bei der OeBB
DESCRIPTION:
URL:https://balsthal.rotary1980.ch/sv/agenda/show/174880
DTSTART;TZID=Europe/Zurich:20240228T181500
DTEND;TZID=Europe/Zurich:20240228T220000
LOCATION:Rampenpintli Bahnhof Balsthal
CATEGORIES:Rotary
END:VEVENT
BEGIN:VTIMEZONE
TZID:Europe/Zurich
BEGIN:STANDARD
DTSTART:20240228T181500
TZNAME:CET
TZOFFSETTO:+0100
TZOFFSETFROM:+0100
END:STANDARD
END:VTIMEZONE
END:VCALENDAR
