BEGIN:VCALENDAR
PRODID:-//eluceo/ical//2.0/EN
VERSION:2.0
CALSCALE:GREGORIAN
BEGIN:VEVENT
UID:1acccf0f0c9087c6aa162db48cf965ef
DTSTAMP:20260422T083756Z
SUMMARY:Plauderlunch
DESCRIPTION:Website: https://www.kreuz.ch\nSprekers: 
URL:https://balsthal.rotary1980.ch/nl/agenda/show/208770
DTSTART;TZID=Europe/Zurich:20260323T121500
DTEND;TZID=Europe/Zurich:20260323T133000
LOCATION:Gasthof Kreuz Egerkingen\, Oltnerstrasse 11\, 4622 Egerkingen
CATEGORIES:Rotary
END:VEVENT
BEGIN:VTIMEZONE
TZID:Europe/Zurich
BEGIN:STANDARD
DTSTART:20260323T121500
TZNAME:CET
TZOFFSETTO:+0100
TZOFFSETFROM:+0100
END:STANDARD
END:VTIMEZONE
END:VCALENDAR
