BEGIN:VCALENDAR
PRODID:-//eluceo/ical//2.0/EN
VERSION:2.0
CALSCALE:GREGORIAN
BEGIN:VEVENT
UID:a63ac2ec754b939f43914e30d8abb3c0
DTSTAMP:20260424T161240Z
SUMMARY:Generalversammlung
DESCRIPTION:Website: https://www.kreuz.ch\nSprekers: 
URL:https://balsthal.rotary1980.ch/nl/agenda/show/196464
DTSTART;TZID=Europe/Zurich:20250707T120000
DTEND;TZID=Europe/Zurich:20250707T133000
LOCATION:Gasthof Kreuz Egerkingen\, Oltnerstrasse 11\, 4622 Egerkingen
CATEGORIES:Rotary
END:VEVENT
BEGIN:VTIMEZONE
TZID:Europe/Zurich
BEGIN:DAYLIGHT
DTSTART:20250707T120000
TZNAME:CEST
TZOFFSETTO:+0200
TZOFFSETFROM:+0200
END:DAYLIGHT
END:VTIMEZONE
END:VCALENDAR
