BEGIN:VCALENDAR
PRODID:-//eluceo/ical//2.0/EN
VERSION:2.0
CALSCALE:GREGORIAN
BEGIN:VEVENT
UID:2c8fe296aefdc65664bb667a03bc2a39
DTSTAMP:20260424T161542Z
SUMMARY:Vortrag: Frauen auf der Flucht
DESCRIPTION:Sprekers: Raquel Simon\, Präsidentin SAO Hellas
URL:https://balsthal.rotary1980.ch/nl/agenda/show/196457
DTSTART;TZID=Europe/Zurich:20250623T120000
DTEND;TZID=Europe/Zurich:20250623T133000
LOCATION:Vebo Genusswerkstatt Oensingen\, Staadackerstrasse  15\, 4702 Oens
 ingen\, Schweiz
CATEGORIES:Rotary
END:VEVENT
BEGIN:VTIMEZONE
TZID:Europe/Zurich
BEGIN:DAYLIGHT
DTSTART:20250623T120000
TZNAME:CEST
TZOFFSETTO:+0200
TZOFFSETFROM:+0200
END:DAYLIGHT
END:VTIMEZONE
END:VCALENDAR
