BEGIN:VCALENDAR
PRODID:-//eluceo/ical//2.0/EN
VERSION:2.0
CALSCALE:GREGORIAN
BEGIN:VEVENT
UID:e7ae7410355da551251d090f463ad116
DTSTAMP:20260422T033308Z
SUMMARY:Vortragslunch Silvan Jäggi
DESCRIPTION:Sito web: http://www.seminarhotelkreuz.ch\nRelatore/i: Klassifi
 kationsvortrag
URL:https://balsthal.rotary1980.ch/it/agenda/show/136111
DTSTART;TZID=Europe/Zurich:20220330T120000
DTEND;TZID=Europe/Zurich:20220330T133000
LOCATION:Hotel Balsthal\, Falkensteinerstrasse 1\, 4710 Balsthal
CATEGORIES:Rotary
END:VEVENT
BEGIN:VTIMEZONE
TZID:Europe/Zurich
BEGIN:DAYLIGHT
DTSTART:20220330T120000
TZNAME:CEST
TZOFFSETTO:+0200
TZOFFSETFROM:+0200
END:DAYLIGHT
END:VTIMEZONE
END:VCALENDAR
