BEGIN:VCALENDAR
PRODID:-//eluceo/ical//2.0/EN
VERSION:2.0
CALSCALE:GREGORIAN
BEGIN:VEVENT
UID:69a0145782396b1e21de9aeead2b5f9d
DTSTAMP:20260419T211129Z
SUMMARY:Präsenzapéro
DESCRIPTION:
URL:https://balsthal.rotary1980.ch/is/agenda/show/165314
DTSTART;TZID=Europe/Zurich:20231207T180000
DTEND;TZID=Europe/Zurich:20231207T193000
LOCATION:Restaurant Bahnhof\, Bahnhofstrasse 3\, 4710 Balsthal
CATEGORIES:Rotary
END:VEVENT
BEGIN:VTIMEZONE
TZID:Europe/Zurich
BEGIN:STANDARD
DTSTART:20231207T180000
TZNAME:CET
TZOFFSETTO:+0100
TZOFFSETFROM:+0100
END:STANDARD
END:VTIMEZONE
END:VCALENDAR
