BEGIN:VCALENDAR
PRODID:-//eluceo/ical//2.0/EN
VERSION:2.0
CALSCALE:GREGORIAN
BEGIN:VEVENT
UID:9c9dfd7254d055363462180ec730ccad
DTSTAMP:20260422T110527Z
SUMMARY:Plauderlunch
DESCRIPTION:Site internet: https://www.kreuz.ch\nConférencier(s): 
URL:https://balsthal.rotary1980.ch/fr/agenda/show/208772
DTSTART;TZID=Europe/Zurich:20260330T121500
DTEND;TZID=Europe/Zurich:20260330T133000
LOCATION:Gasthof Kreuz Egerkingen\, Oltnerstrasse 11\, 4622 Egerkingen
CATEGORIES:Rotary
END:VEVENT
BEGIN:VTIMEZONE
TZID:Europe/Zurich
BEGIN:DAYLIGHT
DTSTART:20260330T121500
TZNAME:CEST
TZOFFSETTO:+0200
TZOFFSETFROM:+0200
END:DAYLIGHT
END:VTIMEZONE
END:VCALENDAR
