BEGIN:VCALENDAR
PRODID:-//eluceo/ical//2.0/EN
VERSION:2.0
CALSCALE:GREGORIAN
BEGIN:VEVENT
UID:f09f1714d8272a3ce2e1a03d9be59ce0
DTSTAMP:20260422T110857Z
SUMMARY:Plauderlunch
DESCRIPTION:Site internet: https://www.kreuz.ch
URL:https://balsthal.rotary1980.ch/fr/agenda/show/163592
DTSTART;TZID=Europe/Zurich:20230710T121500
DTEND;TZID=Europe/Zurich:20230710T133000
LOCATION:Gasthof Kreuz Egerkingen\, Oltnerstrasse 11\, 4622 Egerkingen
CATEGORIES:Rotary
END:VEVENT
BEGIN:VTIMEZONE
TZID:Europe/Zurich
BEGIN:DAYLIGHT
DTSTART:20230710T121500
TZNAME:CEST
TZOFFSETTO:+0200
TZOFFSETFROM:+0200
END:DAYLIGHT
END:VTIMEZONE
END:VCALENDAR
