BEGIN:VCALENDAR
PRODID:-//eluceo/ical//2.0/EN
VERSION:2.0
CALSCALE:GREGORIAN
BEGIN:VEVENT
UID:691666f2080bd668e88c58ffe0567c19
DTSTAMP:20260422T083516Z
SUMMARY:Plauderlunch
DESCRIPTION:Site internet: http://www.seminarhotelkreuz.ch
URL:https://balsthal.rotary1980.ch/fr/agenda/show/148747
DTSTART;TZID=Europe/Zurich:20221124T121500
DTEND;TZID=Europe/Zurich:20221124T133000
LOCATION:Hotel Balsthal\, Falkensteinerstrasse 1\, 4710 Balsthal
CATEGORIES:Rotary
END:VEVENT
BEGIN:VTIMEZONE
TZID:Europe/Zurich
BEGIN:STANDARD
DTSTART:20221124T121500
TZNAME:CET
TZOFFSETTO:+0100
TZOFFSETFROM:+0100
END:STANDARD
END:VTIMEZONE
END:VCALENDAR
