BEGIN:VCALENDAR
PRODID:-//eluceo/ical//2.0/EN
VERSION:2.0
CALSCALE:GREGORIAN
BEGIN:VEVENT
UID:c5638e04c9d4afb7d6bd5afad444f651
DTSTAMP:20260421T164422Z
SUMMARY:Wegen Corona-Einschränkungen bis auf weiteres keine Anlässe
DESCRIPTION:
URL:https://balsthal.rotary1980.ch/fr/agenda/show/136479
DTSTART;TZID=Europe/Zurich:20211214T121500
DTEND;TZID=Europe/Zurich:20220225T133000
LOCATION:kein Ort
CATEGORIES:Rotary
END:VEVENT
BEGIN:VTIMEZONE
TZID:Europe/Zurich
BEGIN:STANDARD
DTSTART:20211214T121500
TZNAME:CET
TZOFFSETTO:+0100
TZOFFSETFROM:+0100
END:STANDARD
END:VTIMEZONE
END:VCALENDAR
