BEGIN:VCALENDAR
PRODID:-//eluceo/ical//2.0/EN
VERSION:2.0
CALSCALE:GREGORIAN
BEGIN:VEVENT
UID:7d6800ea1bbce8fdc142a93c12f2018e
DTSTAMP:20260421T164243Z
SUMMARY:Plauderlunch
DESCRIPTION:Site internet: http://www.seminarhotelkreuz.ch
URL:https://balsthal.rotary1980.ch/fr/agenda/show/136110
DTSTART;TZID=Europe/Zurich:20220309T121500
DTEND;TZID=Europe/Zurich:20220309T133000
LOCATION:Hotel Balsthal\, Falkensteinerstrasse 1\, 4710 Balsthal
CATEGORIES:Rotary
END:VEVENT
BEGIN:VTIMEZONE
TZID:Europe/Zurich
BEGIN:STANDARD
DTSTART:20220309T121500
TZNAME:CET
TZOFFSETTO:+0100
TZOFFSETFROM:+0100
END:STANDARD
END:VTIMEZONE
END:VCALENDAR
