BEGIN:VCALENDAR
PRODID:-//eluceo/ical//2.0/EN
VERSION:2.0
CALSCALE:GREGORIAN
BEGIN:VEVENT
UID:51e20f41678ed3958db201d4ea14b4f0
DTSTAMP:20260419T173754Z
SUMMARY:Präsenzapéro: neu bei Roni Bürgi
DESCRIPTION:
URL:https://balsthal.rotary1980.ch/es/agenda/show/205936
DTSTART;TZID=Europe/Zurich:20260205T180000
DTEND;TZID=Europe/Zurich:20260205T193000
LOCATION:Roni Bürgi\, St. Peterstrasse 44\, 4703 Kestenholz
CATEGORIES:Rotary
END:VEVENT
BEGIN:VTIMEZONE
TZID:Europe/Zurich
BEGIN:STANDARD
DTSTART:20260205T180000
TZNAME:CET
TZOFFSETTO:+0100
TZOFFSETFROM:+0100
END:STANDARD
END:VTIMEZONE
END:VCALENDAR
