BEGIN:VCALENDAR
PRODID:-//eluceo/ical//2.0/EN
VERSION:2.0
CALSCALE:GREGORIAN
BEGIN:VEVENT
UID:33e4bd380bb9caeea39653449836637a
DTSTAMP:20260422T105307Z
SUMMARY:Orientierung 50-Jahr Jubiläum
DESCRIPTION:Orador(es): Heinz Büttler (fit)
URL:https://balsthal.rotary1980.ch/es/agenda/show/193920
DTSTART;TZID=Europe/Zurich:20250428T120000
DTEND;TZID=Europe/Zurich:20250428T133000
LOCATION:Vebo Genusswerkstatt Oensingen\, Staadackerstrasse  15\, 4702 Oens
 ingen\, Schweiz
CATEGORIES:Rotary
END:VEVENT
BEGIN:VTIMEZONE
TZID:Europe/Zurich
BEGIN:DAYLIGHT
DTSTART:20250428T120000
TZNAME:CEST
TZOFFSETTO:+0200
TZOFFSETFROM:+0200
END:DAYLIGHT
END:VTIMEZONE
END:VCALENDAR
