BEGIN:VCALENDAR
PRODID:-//eluceo/ical//2.0/EN
VERSION:2.0
CALSCALE:GREGORIAN
BEGIN:VEVENT
UID:54033dc2bd34ab0a7924bb2a9e7c14f7
DTSTAMP:20260423T013409Z
SUMMARY:Präsenzapéro
DESCRIPTION:
URL:https://balsthal.rotary1980.ch/en/agenda/show/208782
DTSTART;TZID=Europe/Zurich:20260305T180000
DTEND;TZID=Europe/Zurich:20260305T200000
LOCATION:Restaurant Eintracht Kestenholz\, Neue Strasse 6\, 4703 Kestenholz
CATEGORIES:Rotary
END:VEVENT
BEGIN:VTIMEZONE
TZID:Europe/Zurich
BEGIN:STANDARD
DTSTART:20260305T180000
TZNAME:CET
TZOFFSETTO:+0100
TZOFFSETFROM:+0100
END:STANDARD
END:VTIMEZONE
END:VCALENDAR
