BEGIN:VCALENDAR
PRODID:-//eluceo/ical//2.0/EN
VERSION:2.0
CALSCALE:GREGORIAN
BEGIN:VEVENT
UID:5e91138c884c3af540ea1492e9f6cb24
DTSTAMP:20260423T013612Z
SUMMARY:Plauderlunch
DESCRIPTION:Website: https://www.kreuz.ch\nSpeaker(s): 
URL:https://balsthal.rotary1980.ch/en/agenda/show/208769
DTSTART;TZID=Europe/Zurich:20260309T121500
DTEND;TZID=Europe/Zurich:20260309T133000
LOCATION:Gasthof Kreuz Egerkingen\, Oltnerstrasse 11\, 4622 Egerkingen
CATEGORIES:Rotary
END:VEVENT
BEGIN:VTIMEZONE
TZID:Europe/Zurich
BEGIN:STANDARD
DTSTART:20260309T121500
TZNAME:CET
TZOFFSETTO:+0100
TZOFFSETFROM:+0100
END:STANDARD
END:VTIMEZONE
END:VCALENDAR
