BEGIN:VCALENDAR
PRODID:-//eluceo/ical//2.0/EN
VERSION:2.0
CALSCALE:GREGORIAN
BEGIN:VEVENT
UID:21f68fece94902128813addb5a662a95
DTSTAMP:20260423T013711Z
SUMMARY:Plauderlunch
DESCRIPTION:Speaker(s): 
URL:https://balsthal.rotary1980.ch/en/agenda/show/208766
DTSTART;TZID=Europe/Zurich:20260223T121500
DTEND;TZID=Europe/Zurich:20260223T133000
LOCATION:Vebo Genusswerkstatt Oensingen\, Staadackerstrasse  15\, 4702 Oens
 ingen\, Schweiz
CATEGORIES:Rotary
END:VEVENT
BEGIN:VTIMEZONE
TZID:Europe/Zurich
BEGIN:STANDARD
DTSTART:20260223T121500
TZNAME:CET
TZOFFSETTO:+0100
TZOFFSETFROM:+0100
END:STANDARD
END:VTIMEZONE
END:VCALENDAR
