BEGIN:VCALENDAR
PRODID:-//eluceo/ical//2.0/EN
VERSION:2.0
CALSCALE:GREGORIAN
BEGIN:VEVENT
UID:f7d037939f07dac7ee9708fc451bf8dd
DTSTAMP:20260421T105317Z
SUMMARY:Plauderlunch
DESCRIPTION:Referenten/innen: Gemütlicher Plauderlunch während der Schulf
 erien
URL:https://balsthal.rotary1980.ch/de/agenda/show/30273
DTSTART;TZID=Europe/Zurich:20130415T121500
DTEND;TZID=Europe/Zurich:20130415T121500
LOCATION:Hotel Balsthal
CATEGORIES:Rotary
END:VEVENT
BEGIN:VTIMEZONE
TZID:Europe/Zurich
BEGIN:DAYLIGHT
DTSTART:20130415T121500
TZNAME:CEST
TZOFFSETTO:+0200
TZOFFSETFROM:+0200
END:DAYLIGHT
END:VTIMEZONE
END:VCALENDAR
