BEGIN:VCALENDAR
PRODID:-//eluceo/ical//2.0/EN
VERSION:2.0
CALSCALE:GREGORIAN
BEGIN:VEVENT
UID:7769932e6857a250f0eaa33e0dd28733
DTSTAMP:20260426T001808Z
SUMMARY:Partneranlass "Wine & Dine"
DESCRIPTION:Sommelière Susi Bader wird und die Weine in Verbindung mit den
  Delikatessen näher bringen.
URL:https://balsthal.rotary1980.ch/de/agenda/show/27791
DTSTART;TZID=Europe/Zurich:20130301T183000
DTEND;TZID=Europe/Zurich:20130301T183000
LOCATION:Restaurant Krone\, Laupersdorf
CATEGORIES:Rotary
END:VEVENT
BEGIN:VTIMEZONE
TZID:Europe/Zurich
BEGIN:STANDARD
DTSTART:20130301T183000
TZNAME:CET
TZOFFSETTO:+0100
TZOFFSETFROM:+0100
END:STANDARD
END:VTIMEZONE
END:VCALENDAR
