BEGIN:VCALENDAR
PRODID:-//eluceo/ical//2.0/EN
VERSION:2.0
CALSCALE:GREGORIAN
BEGIN:VEVENT
UID:864fa8d7992693d29fc35d3365a9346a
DTSTAMP:20260421T083115Z
SUMMARY:Referat Gesamtverkehrsprojekt Oensingen (F. Gloor)
DESCRIPTION:Webseite: https://www.kreuz.ch\nReferenten/innen: 
URL:https://balsthal.rotary1980.ch/de/agenda/show/212342
DTSTART;TZID=Europe/Zurich:20260518T120000
DTEND;TZID=Europe/Zurich:20260518T133000
LOCATION:Gasthof Kreuz Egerkingen\, Oltnerstrasse 11\, 4622 Egerkingen
CATEGORIES:Rotary
END:VEVENT
BEGIN:VTIMEZONE
TZID:Europe/Zurich
BEGIN:DAYLIGHT
DTSTART:20260518T120000
TZNAME:CEST
TZOFFSETTO:+0200
TZOFFSETFROM:+0200
END:DAYLIGHT
END:VTIMEZONE
END:VCALENDAR
