BEGIN:VCALENDAR
PRODID:-//eluceo/ical//2.0/EN
VERSION:2.0
CALSCALE:GREGORIAN
BEGIN:VEVENT
UID:cc3509c8bb2b6f053aba50b2974a2930
DTSTAMP:20260420T190359Z
SUMMARY:Interclub-Anlass: Sonnenwendfeier
DESCRIPTION:Referenten/innen: 
URL:https://balsthal.rotary1980.ch/de/agenda/show/208774
DTSTART;TZID=Europe/Zurich:20260318T173000
DTEND;TZID=Europe/Zurich:20260318T223000
LOCATION:Schloss Neu-Bechburg Oensingen
CATEGORIES:Rotary
END:VEVENT
BEGIN:VTIMEZONE
TZID:Europe/Zurich
BEGIN:STANDARD
DTSTART:20260318T173000
TZNAME:CET
TZOFFSETTO:+0100
TZOFFSETFROM:+0100
END:STANDARD
END:VTIMEZONE
END:VCALENDAR
