BEGIN:VCALENDAR
PRODID:-//eluceo/ical//2.0/EN
VERSION:2.0
CALSCALE:GREGORIAN
BEGIN:VEVENT
UID:f4d30cc1db35fe54352507d8ccfc1675
DTSTAMP:20260421T134024Z
SUMMARY:Plauderlunch
DESCRIPTION:Referenten/innen: 
URL:https://balsthal.rotary1980.ch/de/agenda/show/208764
DTSTART;TZID=Europe/Zurich:20260209T121500
DTEND;TZID=Europe/Zurich:20260209T133000
LOCATION:Vebo Genusswerkstatt Oensingen\, Staadackerstrasse  15\, 4702 Oens
 ingen\, Schweiz
CATEGORIES:Rotary
END:VEVENT
BEGIN:VTIMEZONE
TZID:Europe/Zurich
BEGIN:STANDARD
DTSTART:20260209T121500
TZNAME:CET
TZOFFSETTO:+0100
TZOFFSETFROM:+0100
END:STANDARD
END:VTIMEZONE
END:VCALENDAR
