BEGIN:VCALENDAR
PRODID:-//eluceo/ical//2.0/EN
VERSION:2.0
CALSCALE:GREGORIAN
BEGIN:VEVENT
UID:73c1be04a48e41a311b22ec7f9d27996
DTSTAMP:20260423T131757Z
SUMMARY:HPS-Reitausflug
DESCRIPTION:
URL:https://balsthal.rotary1980.ch/de/agenda/show/164689
DTSTART;TZID=Europe/Zurich:20230914T090000
DTEND;TZID=Europe/Zurich:20230914T173000
LOCATION:kommt
CATEGORIES:Rotary
END:VEVENT
BEGIN:VTIMEZONE
TZID:Europe/Zurich
BEGIN:DAYLIGHT
DTSTART:20230914T090000
TZNAME:CEST
TZOFFSETTO:+0200
TZOFFSETFROM:+0200
END:DAYLIGHT
END:VTIMEZONE
END:VCALENDAR
