BEGIN:VCALENDAR
PRODID:-//eluceo/ical//2.0/EN
VERSION:2.0
CALSCALE:GREGORIAN
BEGIN:VEVENT
UID:dbfe3dca852a62ec87f2287b2c62403b
DTSTAMP:20260422T141216Z
SUMMARY:Vortragslunch “ Sinnvoll führen – Wer kümmert sich um die Wer
 te?”
DESCRIPTION:Entwicklungsweg\nStudium Jus und Volkswirtschaft\, Promotion 19
 82\nAusbildungen in Familien- und Systemtherapie\, systemischer     
                                      
                      Organisationsentwicklung und Rete
 aming\nFortbildungen in TZI\, Großgruppenmethoden und derzeit      
                                      
                    Ausbildung in Existenzanalytischem Co
 aching\nFortbildungen an der Cornell University\, N.Y. (Train the trainer\
 ,                            \nVortragende der 
 Universität Innsbruck/ Schlosshofen für Kommunikation  und Personalmana
 gement\nPreisträgerin des „Constantinus Award“ (Österreichischer Ber
 aterpreis) 2005\nMitautorin im Buch „Systemische Organisationsentwicklun
 g (Teil 3 - OE in der Praxis)\nExistenzanalytische Coachingausbildung bei 
 DDr. Alfried Längle\n\n \nGovornik(ci): Marianne Grobner\n“ Sinnvoll f
 ühren – Wer kümmert sich um die Werte?”\n
URL:https://balsthal.rotary1980.ch/bs/agenda/show/30275
DTSTART;TZID=Europe/Zurich:20130429T120000
DTEND;TZID=Europe/Zurich:20130429T120000
LOCATION:Hotel Balsthal
CATEGORIES:Rotary
END:VEVENT
BEGIN:VTIMEZONE
TZID:Europe/Zurich
BEGIN:DAYLIGHT
DTSTART:20130429T120000
TZNAME:CEST
TZOFFSETTO:+0200
TZOFFSETFROM:+0200
END:DAYLIGHT
END:VTIMEZONE
END:VCALENDAR
