BEGIN:VCALENDAR
PRODID:-//eluceo/ical//2.0/EN
VERSION:2.0
CALSCALE:GREGORIAN
BEGIN:VEVENT
UID:bbd26b9053bd624fcccc83c2fdd196d4
DTSTAMP:20260422T083905Z
SUMMARY:Vortragslunch: NR Gerhard Pfister\, Zug
DESCRIPTION:Web stranica: https://www.kreuz.ch\nGovornik(ci): 
URL:https://balsthal.rotary1980.ch/bs/agenda/show/205606
DTSTART;TZID=Europe/Zurich:20260112T120000
DTEND;TZID=Europe/Zurich:20260112T133000
LOCATION:Gasthof Kreuz Egerkingen\, Oltnerstrasse 11\, 4622 Egerkingen
CATEGORIES:Rotary
END:VEVENT
BEGIN:VTIMEZONE
TZID:Europe/Zurich
BEGIN:STANDARD
DTSTART:20260112T120000
TZNAME:CET
TZOFFSETTO:+0100
TZOFFSETFROM:+0100
END:STANDARD
END:VTIMEZONE
END:VCALENDAR
