BEGIN:VCALENDAR
PRODID:-//eluceo/ical//2.0/EN
VERSION:2.0
CALSCALE:GREGORIAN
BEGIN:VEVENT
UID:b8e9ced18f68890d80f8dec3cc164ae3
DTSTAMP:20260423T045826Z
SUMMARY:Plauderlunch mit Kurzpräsentation "Wetzlar"
DESCRIPTION:Web stranica: http://www.seminarhotelkreuz.ch
URL:https://balsthal.rotary1980.ch/bs/agenda/show/145093
DTSTART;TZID=Europe/Zurich:20220713T121500
DTEND;TZID=Europe/Zurich:20220713T133000
LOCATION:Hotel Balsthal\, Falkensteinerstrasse 1\, 4710 Balsthal
CATEGORIES:Rotary
END:VEVENT
BEGIN:VTIMEZONE
TZID:Europe/Zurich
BEGIN:DAYLIGHT
DTSTART:20220713T121500
TZNAME:CEST
TZOFFSETTO:+0200
TZOFFSETFROM:+0200
END:DAYLIGHT
END:VTIMEZONE
END:VCALENDAR
