BEGIN:VCALENDAR
PRODID:-//eluceo/ical//2.0/EN
VERSION:2.0
CALSCALE:GREGORIAN
BEGIN:VEVENT
UID:5abac87b54b5c159f0a5cabb3bda8349
DTSTAMP:20260423T034526Z
SUMMARY:Jahresversammlung
DESCRIPTION:Web stranica: http://www.seminarhotelkreuz.ch
URL:https://balsthal.rotary1980.ch/bs/agenda/show/138743
DTSTART;TZID=Europe/Zurich:20220629T120000
DTEND;TZID=Europe/Zurich:20220629T133000
LOCATION:Hotel Balsthal\, Falkensteinerstrasse 1\, 4710 Balsthal
CATEGORIES:Rotary
END:VEVENT
BEGIN:VTIMEZONE
TZID:Europe/Zurich
BEGIN:DAYLIGHT
DTSTART:20220629T120000
TZNAME:CEST
TZOFFSETTO:+0200
TZOFFSETFROM:+0200
END:DAYLIGHT
END:VTIMEZONE
END:VCALENDAR
