BEGIN:VCALENDAR
PRODID:-//eluceo/ical//2.0/EN
VERSION:2.0
CALSCALE:GREGORIAN
BEGIN:VEVENT
UID:f16f8f8d24a8452b2ddbb1097b712460
DTSTAMP:20260423T053131Z
SUMMARY:Partneranlass Eishockeymatch Olten - ?
DESCRIPTION:
URL:https://balsthal.rotary1980.ch/bs/agenda/show/136104
DTSTART;TZID=Europe/Zurich:20220317T180000
DTEND;TZID=Europe/Zurich:20220317T230000
LOCATION:Eisstadion Olten
CATEGORIES:Rotary
END:VEVENT
BEGIN:VTIMEZONE
TZID:Europe/Zurich
BEGIN:STANDARD
DTSTART:20220317T180000
TZNAME:CET
TZOFFSETTO:+0100
TZOFFSETFROM:+0100
END:STANDARD
END:VTIMEZONE
END:VCALENDAR
