BEGIN:VCALENDAR
PRODID:-//eluceo/ical//2.0/EN
VERSION:2.0
CALSCALE:GREGORIAN
BEGIN:VEVENT
UID:9725860c86ad1891290e403245869fcf
DTSTAMP:20260423T034408Z
SUMMARY:Plauderlunch
DESCRIPTION:Web stranica: http://www.seminarhotelkreuz.ch
URL:https://balsthal.rotary1980.ch/bs/agenda/show/136098
DTSTART;TZID=Europe/Zurich:20220706T121500
DTEND;TZID=Europe/Zurich:20220706T133000
LOCATION:Hotel Balsthal\, Falkensteinerstrasse 1\, 4710 Balsthal
CATEGORIES:Rotary
END:VEVENT
BEGIN:VTIMEZONE
TZID:Europe/Zurich
BEGIN:DAYLIGHT
DTSTART:20220706T121500
TZNAME:CEST
TZOFFSETTO:+0200
TZOFFSETFROM:+0200
END:DAYLIGHT
END:VTIMEZONE
END:VCALENDAR
